BEGIN:VCALENDAR
VERSION:2.0
PRODID:-//MNSCIA - ECPv6.15.20//NONSGML v1.0//EN
CALSCALE:GREGORIAN
METHOD:PUBLISH
X-ORIGINAL-URL:https://mnscia.com
X-WR-CALDESC:Events for MNSCIA
REFRESH-INTERVAL;VALUE=DURATION:PT1H
X-Robots-Tag:noindex
X-PUBLISHED-TTL:PT1H
BEGIN:VTIMEZONE
TZID:America/Chicago
BEGIN:DAYLIGHT
TZOFFSETFROM:-0600
TZOFFSETTO:-0500
TZNAME:CDT
DTSTART:20240310T080000
END:DAYLIGHT
BEGIN:STANDARD
TZOFFSETFROM:-0500
TZOFFSETTO:-0600
TZNAME:CST
DTSTART:20241103T070000
END:STANDARD
BEGIN:DAYLIGHT
TZOFFSETFROM:-0600
TZOFFSETTO:-0500
TZNAME:CDT
DTSTART:20250309T080000
END:DAYLIGHT
BEGIN:STANDARD
TZOFFSETFROM:-0500
TZOFFSETTO:-0600
TZNAME:CST
DTSTART:20251102T070000
END:STANDARD
BEGIN:DAYLIGHT
TZOFFSETFROM:-0600
TZOFFSETTO:-0500
TZNAME:CDT
DTSTART:20260308T080000
END:DAYLIGHT
BEGIN:STANDARD
TZOFFSETFROM:-0500
TZOFFSETTO:-0600
TZNAME:CST
DTSTART:20261101T070000
END:STANDARD
BEGIN:DAYLIGHT
TZOFFSETFROM:-0600
TZOFFSETTO:-0500
TZNAME:CDT
DTSTART:20270314T080000
END:DAYLIGHT
BEGIN:STANDARD
TZOFFSETFROM:-0500
TZOFFSETTO:-0600
TZNAME:CST
DTSTART:20271107T070000
END:STANDARD
END:VTIMEZONE
BEGIN:VEVENT
DTSTART;TZID=America/Chicago:20251023T080000
DTEND;TZID=America/Chicago:20251023T210000
DTSTAMP:20260425T060256
CREATED:20250827T124119Z
LAST-MODIFIED:20250827T124119Z
UID:640-1761206400-1761253200@mnscia.com
SUMMARY:Building Bridges Conference 2025
DESCRIPTION:*Note: this conference is not hosted or sponsored by MNSCIA* \nFrom Solidarity\, to Solutions \nThis annual gathering hosted by the Sexual Violence Center brings together advocates\, service providers\, educators\, community organizers\, legal & law enforcement professionals\, and survivors to share knowledge\, build connections\, and advance impactful solutions. Together\, we’ll explore ways to strengthen collective efforts and create meaningful change in the fight against sexual violence. \nBuilding Bridges Conference 2025
URL:https://mnscia.com/event/building-bridges-conference-2025/
LOCATION:Mystic Lake Center\, Prior Lake
END:VEVENT
BEGIN:VEVENT
DTSTART;TZID=America/Chicago:20260414T080000
DTEND;TZID=America/Chicago:20260414T160000
DTSTAMP:20260425T060256
CREATED:20260123T211647Z
LAST-MODIFIED:20260312T152534Z
UID:921-1776153600-1776182400@mnscia.com
SUMMARY:MNSCIA 2026 Spring Conference
DESCRIPTION:Review Conference Agenda Here!
URL:https://mnscia.com/event/mnscia-2026-spring-conference/
LOCATION:Anoka County Sheriff’s Office\, 13301 Hanson Blvd NW\, Andover\, MN\, 55304\, United States
CATEGORIES:MNSCIA Events
END:VEVENT
END:VCALENDAR